Package: DrugVsDisease Version: 2.48.0 Command: /Library/Frameworks/R.framework/Resources/bin/R CMD check --install=check:DrugVsDisease.install-out.txt --library=/Library/Frameworks/R.framework/Resources/library --no-vignettes --timings DrugVsDisease_2.48.0.tar.gz StartedAt: 2025-01-31 03:18:04 -0500 (Fri, 31 Jan 2025) EndedAt: 2025-01-31 03:23:57 -0500 (Fri, 31 Jan 2025) EllapsedTime: 353.0 seconds RetCode: 0 Status: OK CheckDir: DrugVsDisease.Rcheck Warnings: 0