Package: DrugVsDisease Version: 2.48.0 Command: F:\biocbuild\bbs-3.20-bioc\R\bin\R.exe CMD check --no-multiarch --install=check:DrugVsDisease.install-out.txt --library=F:\biocbuild\bbs-3.20-bioc\R\library --no-vignettes --timings DrugVsDisease_2.48.0.tar.gz StartedAt: 2025-02-04 01:25:01 -0500 (Tue, 04 Feb 2025) EndedAt: 2025-02-04 01:28:17 -0500 (Tue, 04 Feb 2025) EllapsedTime: 195.8 seconds RetCode: 0 Status: OK CheckDir: DrugVsDisease.Rcheck Warnings: 0