Package: DrugVsDisease Version: 2.48.0 Command: /home/biocbuild/R/R/bin/R CMD check --install=check:DrugVsDisease.install-out.txt --library=/home/biocbuild/R/R/site-library --no-vignettes --timings DrugVsDisease_2.48.0.tar.gz StartedAt: 2025-01-31 05:51:43 -0000 (Fri, 31 Jan 2025) EndedAt: 2025-01-31 05:55:07 -0000 (Fri, 31 Jan 2025) EllapsedTime: 203.2 seconds RetCode: 0 Status: OK CheckDir: DrugVsDisease.Rcheck Warnings: 0