Package: DrugVsDisease Version: 2.48.0 Command: /home/biocbuild/R/R/bin/R CMD INSTALL DrugVsDisease StartedAt: 2025-02-03 20:50:40 -0000 (Mon, 03 Feb 2025) EndedAt: 2025-02-03 20:51:23 -0000 (Mon, 03 Feb 2025) EllapsedTime: 43.5 seconds RetCode: 0 Status: OK