Package: Dune Version: 1.18.0 Command: /Library/Frameworks/R.framework/Resources/bin/R CMD INSTALL Dune StartedAt: 2025-01-30 15:49:00 -0500 (Thu, 30 Jan 2025) EndedAt: 2025-01-30 15:49:29 -0500 (Thu, 30 Jan 2025) EllapsedTime: 28.4 seconds RetCode: 0 Status: OK