Package: Dune Version: 1.18.0 Command: /Library/Frameworks/R.framework/Resources/bin/R CMD build --keep-empty-dirs --no-resave-data Dune StartedAt: 2025-01-30 18:49:59 -0500 (Thu, 30 Jan 2025) EndedAt: 2025-01-30 18:51:37 -0500 (Thu, 30 Jan 2025) EllapsedTime: 98.0 seconds RetCode: 0 Status: OK PackageFile: Dune_1.18.0.tar.gz PackageFileSize: 2.295 MiB