############################################################################## ############################################################################## ### ### Running command: ### ### /Library/Frameworks/R.framework/Resources/bin/R CMD check --install=check:Dune.install-out.txt --library=/Library/Frameworks/R.framework/Resources/library --no-vignettes --timings Dune_1.18.0.tar.gz ### ############################################################################## ############################################################################## * using log directory ‘/Users/biocbuild/bbs-3.20-bioc/meat/Dune.Rcheck’ * using R version 4.4.2 (2024-10-31) * using platform: x86_64-apple-darwin20 * R was compiled by Apple clang version 14.0.0 (clang-1400.0.29.202) GNU Fortran (GCC) 12.2.0 * running under: macOS Monterey 12.7.6 * using session charset: UTF-8 * using option ‘--no-vignettes’ * checking for file ‘Dune/DESCRIPTION’ ... OK * this is package ‘Dune’ version ‘1.18.0’ * package encoding: UTF-8 * checking package namespace information ... NOTE Found export directive that requires package ‘methods’: ‘exportMethods’ Remove all such namespace directives (if obsolete) or ensure that the DESCRIPTION Depends or Imports field contains ‘methods’. * checking package dependencies ... OK * checking if this is a source package ... OK * checking if there is a namespace ... OK * checking for hidden files and directories ... OK * checking for portable file names ... OK * checking for sufficient/correct file permissions ... OK * checking whether package ‘Dune’ can be installed ... OK * checking installed package size ... OK * checking package directory ... OK * checking ‘build’ directory ... OK * checking DESCRIPTION meta-information ... OK * checking top-level files ... OK * checking for left-over files ... OK * checking index information ... OK * checking package subdirectories ... OK * checking code files for non-ASCII characters ... OK * checking R files for syntax errors ... OK * checking whether the package can be loaded ... OK * checking whether the package can be loaded with stated dependencies ... OK * checking whether the package can be unloaded cleanly ... OK * checking whether the namespace can be loaded with stated dependencies ... OK * checking whether the namespace can be unloaded cleanly ... OK * checking whether startup messages can be suppressed ... OK * checking dependencies in R code ... NOTE package 'methods' is used but not declared * checking S3 generic/method consistency ... OK * checking replacement functions ... OK * checking foreign function calls ... OK * checking R code for possible problems ... NOTE .metricTrend: no visible binding for global variable ‘.’ .metricTrend: no visible binding for global variable ‘step’ .metricTrend: no visible binding for global variable ‘change’ .metricTrend: no visible binding for global variable ‘value’ .plotMetric: no visible binding for global variable ‘label2’ .plotMetric: no visible binding for global variable ‘metric’ .plotMetric: no visible binding for global variable ‘label1’ ARIImp : f: no visible binding for global variable ‘cells’ ConfusionEvolution : : no visible binding for global variable ‘Freq’ ConfusionEvolution : : no visible binding for global variable ‘total_x’ ConfusionEvolution : : no visible binding for global variable ‘total_y’ ConfusionEvolution: no visible binding for global variable ‘overlap’ ConfusionEvolution: no visible binding for global variable ‘Freq’ ConfusionEvolution: no visible binding for global variable ‘step’ ConfusionPlot: no visible binding for global variable ‘Freq’ ConfusionPlot: no visible binding for global variable ‘total_x’ ConfusionPlot: no visible binding for global variable ‘total_y’ ConfusionPlot: no visible binding for global variable ‘overlap’ NMIImp : f: no visible binding for global variable ‘cells’ intermediateMat: no visible binding for global variable ‘cells’ plotPrePost: no visible binding for global variable ‘Nb’ Undefined global functions or variables: . Freq Nb cells change label1 label2 metric overlap step total_x total_y value Consider adding importFrom("stats", "step") to your NAMESPACE file. * checking Rd files ... OK * checking Rd metadata ... OK * checking Rd cross-references ... OK * checking for missing documentation entries ... OK * checking for code/documentation mismatches ... OK * checking Rd \usage sections ... OK * checking Rd contents ... OK * checking for unstated dependencies in examples ... OK * checking contents of ‘data’ directory ... OK * checking data for non-ASCII characters ... OK * checking LazyData ... OK * checking data for ASCII and uncompressed saves ... OK * checking files in ‘vignettes’ ... OK * checking examples ... OK Examples with CPU (user + system) or elapsed time > 5s user system elapsed Dune 20.078 0.083 21.216 ARItrend 12.584 0.066 14.332 ARIImp 11.873 0.265 13.466 plotARIs 11.716 0.047 12.172 whenToStop 11.664 0.049 12.439 plotNMIs 11.633 0.047 12.245 NMItrend 11.436 0.050 12.456 plotPrePost 11.436 0.042 12.038 functionTracking 11.217 0.046 11.779 intermediateMat 11.081 0.048 11.436 clusterConversion 11.025 0.044 11.787 NMIImp 10.870 0.041 11.473 * checking for unstated dependencies in ‘tests’ ... OK * checking tests ... Running ‘testthat.R’ OK * checking for unstated dependencies in vignettes ... OK * checking package vignettes ... OK * checking running R code from vignettes ... SKIPPED * checking re-building of vignette outputs ... SKIPPED * checking PDF version of manual ... OK * DONE Status: 3 NOTEs See ‘/Users/biocbuild/bbs-3.20-bioc/meat/Dune.Rcheck/00check.log’ for details.