Package: Dune Version: 1.18.0 Command: /home/biocbuild/R/R/bin/R CMD build --keep-empty-dirs --no-resave-data Dune StartedAt: 2025-01-30 23:18:17 -0000 (Thu, 30 Jan 2025) EndedAt: 2025-01-30 23:18:18 -0000 (Thu, 30 Jan 2025) EllapsedTime: 1.0 seconds RetCode: 1 Status: ERROR PackageFile: None PackageFileSize: NA