Package: Dune Version: 1.18.0 Command: /home/biocbuild/R/R/bin/R CMD INSTALL Dune StartedAt: 2025-02-03 20:46:44 -0000 (Mon, 03 Feb 2025) EndedAt: 2025-02-03 20:46:47 -0000 (Mon, 03 Feb 2025) EllapsedTime: 2.8 seconds RetCode: 1 Status: ERROR