Package: DuplexDiscovereR Version: 1.0.0 Command: /Library/Frameworks/R.framework/Resources/bin/R CMD check --install=check:DuplexDiscovereR.install-out.txt --library=/Library/Frameworks/R.framework/Resources/library --no-vignettes --timings DuplexDiscovereR_1.0.0.tar.gz StartedAt: 2025-02-04 18:39:50 -0500 (Tue, 04 Feb 2025) EndedAt: 2025-02-04 18:48:16 -0500 (Tue, 04 Feb 2025) EllapsedTime: 506.7 seconds RetCode: 0 Status: OK CheckDir: DuplexDiscovereR.Rcheck Warnings: 0