Package: DuplexDiscovereR Version: 1.0.0 Command: /home/biocbuild/bbs-3.20-bioc/R/bin/R CMD INSTALL DuplexDiscovereR StartedAt: 2025-02-03 16:06:20 -0500 (Mon, 03 Feb 2025) EndedAt: 2025-02-03 16:08:08 -0500 (Mon, 03 Feb 2025) EllapsedTime: 108.9 seconds RetCode: 0 Status: OK