Package: DuplexDiscovereR Version: 1.0.0 Command: rm -rf DuplexDiscovereR.buildbin-libdir && mkdir DuplexDiscovereR.buildbin-libdir && F:\biocbuild\bbs-3.20-bioc\R\bin\R.exe CMD INSTALL --build --library=DuplexDiscovereR.buildbin-libdir DuplexDiscovereR_1.0.0.tar.gz StartedAt: 2025-02-04 08:25:00 -0500 (Tue, 04 Feb 2025) EndedAt: 2025-02-04 08:28:42 -0500 (Tue, 04 Feb 2025) EllapsedTime: 222.3 seconds RetCode: 0 Status: OK PackageFile: DuplexDiscovereR_1.0.0.zip PackageFileSize: 1.506 MiB