Package: DuplexDiscovereR Version: 1.0.0 Command: /home/biocbuild/R/R/bin/R CMD build --keep-empty-dirs --no-resave-data DuplexDiscovereR StartedAt: 2025-02-03 23:19:11 -0000 (Mon, 03 Feb 2025) EndedAt: 2025-02-03 23:21:34 -0000 (Mon, 03 Feb 2025) EllapsedTime: 143.1 seconds RetCode: 0 Status: OK PackageFile: DuplexDiscovereR_1.0.0.tar.gz PackageFileSize: 1.013 MiB