Package: DuplexDiscovereR Version: 1.0.0 Command: /home/biocbuild/R/R/bin/R CMD check --install=check:DuplexDiscovereR.install-out.txt --library=/home/biocbuild/R/R/site-library --no-vignettes --timings DuplexDiscovereR_1.0.0.tar.gz StartedAt: 2025-02-04 06:37:10 -0000 (Tue, 04 Feb 2025) EndedAt: 2025-02-04 06:46:23 -0000 (Tue, 04 Feb 2025) EllapsedTime: 552.8 seconds RetCode: 0 Status: OK CheckDir: DuplexDiscovereR.Rcheck Warnings: 0