Package: DuplexDiscovereR Version: 1.0.0 Command: /home/biocbuild/R/R/bin/R CMD INSTALL DuplexDiscovereR StartedAt: 2025-02-03 21:20:36 -0000 (Mon, 03 Feb 2025) EndedAt: 2025-02-03 21:22:12 -0000 (Mon, 03 Feb 2025) EllapsedTime: 96.0 seconds RetCode: 0 Status: OK