Package: DuplexDiscovereR
Version: 1.0.0
Command: /home/biocbuild/bbs-3.20-bioc/R/bin/R CMD build --keep-empty-dirs --no-resave-data DuplexDiscovereR
StartedAt: 2024-11-19 18:42:52 -0500 (Tue, 19 Nov 2024)
EndedAt: 2024-11-19 18:45:17 -0500 (Tue, 19 Nov 2024)
EllapsedTime: 144.5 seconds
RetCode: 0
Status: OK
PackageFile: DuplexDiscovereR_1.0.0.tar.gz
PackageFileSize: 1011 <A href="http://en.wikipedia.org/wiki/KiB" target="_blank">KiB</A>