Package: DynDoc Version: 1.84.0 Command: /Library/Frameworks/R.framework/Resources/bin/R CMD build --keep-empty-dirs --no-resave-data DynDoc StartedAt: 2025-02-03 22:55:54 -0500 (Mon, 03 Feb 2025) EndedAt: 2025-02-03 22:55:56 -0500 (Mon, 03 Feb 2025) EllapsedTime: 1.2 seconds RetCode: 0 Status: OK PackageFile: DynDoc_1.84.0.tar.gz PackageFileSize: 10.97 KiB