Package: DynDoc
Version: 1.84.0
Command: /Library/Frameworks/R.framework/Resources/bin/R CMD INSTALL DynDoc
StartedAt: 2025-02-17 15:04:29 -0500 (Mon, 17 Feb 2025)
EndedAt: 2025-02-17 15:04:32 -0500 (Mon, 17 Feb 2025)
EllapsedTime: 2.8 seconds
RetCode: 0
Status: OK