Package: DynDoc Version: 1.84.0 Command: /home/biocbuild/bbs-3.20-bioc/R/bin/R CMD build --keep-empty-dirs --no-resave-data --md5 DynDoc StartedAt: 2025-02-03 17:16:43 -0500 (Mon, 03 Feb 2025) EndedAt: 2025-02-03 17:16:44 -0500 (Mon, 03 Feb 2025) EllapsedTime: 1.0 seconds RetCode: 0 Status: OK PackageFile: DynDoc_1.84.0.tar.gz PackageFileSize: 11.61 KiB