Package: DynDoc Version: 1.84.0 Command: /home/biocbuild/bbs-3.20-bioc/R/bin/R CMD INSTALL DynDoc StartedAt: 2025-02-03 15:13:28 -0500 (Mon, 03 Feb 2025) EndedAt: 2025-02-03 15:13:32 -0500 (Mon, 03 Feb 2025) EllapsedTime: 4.7 seconds RetCode: 0 Status: OK