Package: DynDoc
Version: 1.83.0
Command: C:\Users\biocbuild\bbs-3.20-bioc\R\bin\R.exe CMD INSTALL DynDoc
StartedAt: 2024-07-15 15:15:42 -0400 (Mon, 15 Jul 2024)
EndedAt: 2024-07-15 15:16:00 -0400 (Mon, 15 Jul 2024)
EllapsedTime: 17.0 seconds
RetCode: 0
Status: OK