Package: DynDoc Version: 1.84.0 Command: F:\biocbuild\bbs-3.20-bioc\R\bin\R.exe CMD check --no-multiarch --install=check:DynDoc.install-out.txt --library=F:\biocbuild\bbs-3.20-bioc\R\library --no-vignettes --timings DynDoc_1.84.0.tar.gz StartedAt: 2025-02-04 01:27:03 -0500 (Tue, 04 Feb 2025) EndedAt: 2025-02-04 01:27:31 -0500 (Tue, 04 Feb 2025) EllapsedTime: 27.7 seconds RetCode: 0 Status: OK CheckDir: DynDoc.Rcheck Warnings: 0