Package: EBImage Version: 4.48.0 Command: rm -rf EBImage.buildbin-libdir && mkdir EBImage.buildbin-libdir && /Users/biocbuild/BBS/utils/build-universal.sh EBImage_4.48.0.tar.gz /Library/Frameworks/R.framework/Resources/bin/R EBImage.buildbin-libdir StartedAt: 2025-02-05 15:41:51 -0500 (Wed, 05 Feb 2025) EndedAt: 2025-02-05 15:42:09 -0500 (Wed, 05 Feb 2025) EllapsedTime: 18.0 seconds RetCode: 0 Status: OK PackageFile: EBImage_4.48.0.tgz PackageFileSize: 6.644 MiB