Package: EBImage Version: 4.48.0 Command: /home/biocbuild/R/R/bin/R CMD build --keep-empty-dirs --no-resave-data EBImage StartedAt: 2024-11-20 00:27:07 -0000 (Wed, 20 Nov 2024) EndedAt: 2024-11-20 00:27:58 -0000 (Wed, 20 Nov 2024) EllapsedTime: 51.1 seconds RetCode: 0 Status: OK PackageFile: EBImage_4.48.0.tar.gz PackageFileSize: 4.664 MiB