Package: EBImage Version: 4.48.0 Command: /home/biocbuild/bbs-3.20-bioc/R/bin/R CMD build --keep-empty-dirs --no-resave-data --md5 EBImage StartedAt: 2025-02-03 17:17:03 -0500 (Mon, 03 Feb 2025) EndedAt: 2025-02-03 17:17:35 -0500 (Mon, 03 Feb 2025) EllapsedTime: 32.1 seconds RetCode: 0 Status: OK PackageFile: EBImage_4.48.0.tar.gz PackageFileSize: 5.213 MiB