Package: EBImage Version: 4.48.0 Command: /home/biocbuild/bbs-3.20-bioc/R/bin/R CMD check --install=check:EBImage.install-out.txt --library=/home/biocbuild/bbs-3.20-bioc/R/site-library --timings EBImage_4.48.0.tar.gz StartedAt: 2025-02-03 22:02:32 -0500 (Mon, 03 Feb 2025) EndedAt: 2025-02-03 22:03:54 -0500 (Mon, 03 Feb 2025) EllapsedTime: 82.1 seconds RetCode: 0 Status: OK CheckDir: EBImage.Rcheck Warnings: 0