Package: EBSEA Version: 1.34.0 Command: /home/biocbuild/R/R/bin/R CMD build --keep-empty-dirs --no-resave-data EBSEA StartedAt: 2025-02-03 23:20:29 -0000 (Mon, 03 Feb 2025) EndedAt: 2025-02-03 23:21:16 -0000 (Mon, 03 Feb 2025) EllapsedTime: 47.0 seconds RetCode: 0 Status: OK PackageFile: EBSEA_1.34.0.tar.gz PackageFileSize: 35.56 KiB