Package: EBarrays Version: 2.70.0 Command: rm -rf EBarrays.buildbin-libdir && mkdir EBarrays.buildbin-libdir && /Users/biocbuild/BBS/utils/build-universal.sh EBarrays_2.70.0.tar.gz /Library/Frameworks/R.framework/Resources/bin/R EBarrays.buildbin-libdir StartedAt: 2025-02-18 12:05:24 -0500 (Tue, 18 Feb 2025) EndedAt: 2025-02-18 12:05:40 -0500 (Tue, 18 Feb 2025) EllapsedTime: 16.1 seconds RetCode: 0 Status: OK PackageFile: EBarrays_2.70.0.tgz PackageFileSize: 1.269 <A href="http://en.wikipedia.org/wiki/MiB" target="_blank">MiB</A>