Package: EBarrays Version: 2.70.0 Command: /home/biocbuild/bbs-3.20-bioc/R/bin/R CMD build --keep-empty-dirs --no-resave-data --md5 EBarrays StartedAt: 2025-02-03 17:16:59 -0500 (Mon, 03 Feb 2025) EndedAt: 2025-02-03 17:17:15 -0500 (Mon, 03 Feb 2025) EllapsedTime: 16.0 seconds RetCode: 0 Status: OK PackageFile: EBarrays_2.70.0.tar.gz PackageFileSize: 1.041 MiB