Package: EBarrays Version: 2.70.0 Command: /home/biocbuild/bbs-3.20-bioc/R/bin/R CMD INSTALL EBarrays StartedAt: 2025-02-03 15:13:47 -0500 (Mon, 03 Feb 2025) EndedAt: 2025-02-03 15:14:02 -0500 (Mon, 03 Feb 2025) EllapsedTime: 14.2 seconds RetCode: 0 Status: OK