Package: EBarrays Version: 2.70.0 Command: rm -rf EBarrays.buildbin-libdir && mkdir EBarrays.buildbin-libdir && F:\biocbuild\bbs-3.20-bioc\R\bin\R.exe CMD INSTALL --build --library=EBarrays.buildbin-libdir EBarrays_2.70.0.tar.gz StartedAt: 2025-02-04 08:25:15 -0500 (Tue, 04 Feb 2025) EndedAt: 2025-02-04 08:25:30 -0500 (Tue, 04 Feb 2025) EllapsedTime: 15.2 seconds RetCode: 0 Status: OK PackageFile: EBarrays_2.70.0.zip PackageFileSize: 1.157 MiB