Package: EBarrays Version: 2.70.0 Command: chmod a+r EBarrays -R && F:\biocbuild\bbs-3.20-bioc\R\bin\R.exe CMD build --keep-empty-dirs --no-resave-data EBarrays StartedAt: 2025-02-03 18:49:01 -0500 (Mon, 03 Feb 2025) EndedAt: 2025-02-03 18:49:40 -0500 (Mon, 03 Feb 2025) EllapsedTime: 38.4 seconds RetCode: 0 Status: OK PackageFile: EBarrays_2.70.0.tar.gz PackageFileSize: 945.7 KiB