Package: EBcoexpress Version: 1.50.0 Command: /Library/Frameworks/R.framework/Resources/bin/R CMD check --install=check:EBcoexpress.install-out.txt --library=/Library/Frameworks/R.framework/Resources/library --no-vignettes --timings EBcoexpress_1.50.0.tar.gz StartedAt: 2025-02-04 03:09:32 -0500 (Tue, 04 Feb 2025) EndedAt: 2025-02-04 03:10:44 -0500 (Tue, 04 Feb 2025) EllapsedTime: 71.7 seconds RetCode: 0 Status: OK CheckDir: EBcoexpress.Rcheck Warnings: 0