Package: EBcoexpress Version: 1.50.0 Command: /Library/Frameworks/R.framework/Resources/bin/R CMD INSTALL EBcoexpress StartedAt: 2025-02-03 15:13:58 -0500 (Mon, 03 Feb 2025) EndedAt: 2025-02-03 15:14:39 -0500 (Mon, 03 Feb 2025) EllapsedTime: 41.6 seconds RetCode: 0 Status: OK