Package: EBcoexpress Version: 1.50.0 Command: /home/biocbuild/bbs-3.20-bioc/R/bin/R CMD build --keep-empty-dirs --no-resave-data --md5 EBcoexpress StartedAt: 2025-02-03 17:17:00 -0500 (Mon, 03 Feb 2025) EndedAt: 2025-02-03 17:17:21 -0500 (Mon, 03 Feb 2025) EllapsedTime: 21.0 seconds RetCode: 0 Status: OK PackageFile: EBcoexpress_1.50.0.tar.gz PackageFileSize: 3.037 MiB