Package: EBcoexpress Version: 1.50.0 Command: /home/biocbuild/bbs-3.20-bioc/R/bin/R CMD check --install=check:EBcoexpress.install-out.txt --library=/home/biocbuild/bbs-3.20-bioc/R/site-library --timings EBcoexpress_1.50.0.tar.gz StartedAt: 2025-02-03 22:02:31 -0500 (Mon, 03 Feb 2025) EndedAt: 2025-02-03 22:03:12 -0500 (Mon, 03 Feb 2025) EllapsedTime: 41.0 seconds RetCode: 0 Status: WARNINGS CheckDir: EBcoexpress.Rcheck Warnings: 1