Package: EBcoexpress Version: 1.50.0 Command: rm -rf EBcoexpress.buildbin-libdir && mkdir EBcoexpress.buildbin-libdir && F:\biocbuild\bbs-3.20-bioc\R\bin\R.exe CMD INSTALL --build --library=EBcoexpress.buildbin-libdir EBcoexpress_1.50.0.tar.gz StartedAt: 2025-02-04 08:25:17 -0500 (Tue, 04 Feb 2025) EndedAt: 2025-02-04 08:25:28 -0500 (Tue, 04 Feb 2025) EllapsedTime: 11.9 seconds RetCode: 0 Status: OK PackageFile: EBcoexpress_1.50.0.zip PackageFileSize: 823.9 KiB