Package: EBcoexpress Version: 1.50.0 Command: chmod a+r EBcoexpress -R && F:\biocbuild\bbs-3.20-bioc\R\bin\R.exe CMD build --keep-empty-dirs --no-resave-data EBcoexpress StartedAt: 2025-02-03 18:49:02 -0500 (Mon, 03 Feb 2025) EndedAt: 2025-02-03 18:49:42 -0500 (Mon, 03 Feb 2025) EllapsedTime: 40.0 seconds RetCode: 0 Status: OK PackageFile: EBcoexpress_1.50.0.tar.gz PackageFileSize: 732.7 KiB