Package: EBcoexpress Version: 1.50.0 Command: /home/biocbuild/R/R/bin/R CMD check --install=check:EBcoexpress.install-out.txt --library=/home/biocbuild/R/R/site-library --no-vignettes --timings EBcoexpress_1.50.0.tar.gz StartedAt: 2025-02-04 06:39:32 -0000 (Tue, 04 Feb 2025) EndedAt: 2025-02-04 06:40:04 -0000 (Tue, 04 Feb 2025) EllapsedTime: 32.1 seconds RetCode: 0 Status: WARNINGS CheckDir: EBcoexpress.Rcheck Warnings: 1