Package: EDASeq Version: 2.40.0 Command: rm -rf EDASeq.buildbin-libdir && mkdir EDASeq.buildbin-libdir && /Users/biocbuild/BBS/utils/build-universal.sh EDASeq_2.40.0.tar.gz /Library/Frameworks/R.framework/Resources/bin/R EDASeq.buildbin-libdir StartedAt: 2025-02-05 15:42:04 -0500 (Wed, 05 Feb 2025) EndedAt: 2025-02-05 15:42:57 -0500 (Wed, 05 Feb 2025) EllapsedTime: 53.2 seconds RetCode: 0 Status: OK PackageFile: EDASeq_2.40.0.tgz PackageFileSize: 1.33 MiB