Package: EDASeq Version: 2.40.0 Command: /Library/Frameworks/R.framework/Resources/bin/R CMD INSTALL EDASeq StartedAt: 2025-02-03 15:54:50 -0500 (Mon, 03 Feb 2025) EndedAt: 2025-02-03 15:56:18 -0500 (Mon, 03 Feb 2025) EllapsedTime: 88.0 seconds RetCode: 0 Status: OK