Package: EDASeq
Version: 2.40.0
Command: /home/biocbuild/R/R/bin/R CMD check --install=check:EDASeq.install-out.txt --library=/home/biocbuild/R/R/site-library --no-vignettes --timings EDASeq_2.40.0.tar.gz
StartedAt: 2025-02-18 06:13:34 -0000 (Tue, 18 Feb 2025)
EndedAt: 2025-02-18 06:19:11 -0000 (Tue, 18 Feb 2025)
EllapsedTime: 336.3 seconds
RetCode: 0
Status: OK
CheckDir: EDASeq.Rcheck
Warnings: 0