Package: EDIRquery Version: 1.6.0 Command: /Library/Frameworks/R.framework/Resources/bin/R CMD build --keep-empty-dirs --no-resave-data EDIRquery StartedAt: 2025-02-03 18:42:58 -0500 (Mon, 03 Feb 2025) EndedAt: 2025-02-03 18:44:17 -0500 (Mon, 03 Feb 2025) EllapsedTime: 78.9 seconds RetCode: 0 Status: OK PackageFile: EDIRquery_1.6.0.tar.gz PackageFileSize: 1.376 MiB