Package: EDIRquery Version: 1.6.0 Command: /Library/Frameworks/R.framework/Resources/bin/R CMD INSTALL EDIRquery StartedAt: 2025-02-03 15:26:52 -0500 (Mon, 03 Feb 2025) EndedAt: 2025-02-03 15:27:44 -0500 (Mon, 03 Feb 2025) EllapsedTime: 51.9 seconds RetCode: 0 Status: OK