Package: EDIRquery Version: 1.6.0 Command: /home/biocbuild/bbs-3.20-bioc/R/bin/R CMD check --install=check:EDIRquery.install-out.txt --library=/home/biocbuild/bbs-3.20-bioc/R/site-library --timings EDIRquery_1.6.0.tar.gz StartedAt: 2025-02-03 22:03:47 -0500 (Mon, 03 Feb 2025) EndedAt: 2025-02-03 22:06:43 -0500 (Mon, 03 Feb 2025) EllapsedTime: 176.2 seconds RetCode: 0 Status: OK CheckDir: EDIRquery.Rcheck Warnings: 0