Package: EDIRquery Version: 1.6.0 Command: /home/biocbuild/bbs-3.20-bioc/R/bin/R CMD INSTALL EDIRquery StartedAt: 2025-02-03 15:22:02 -0500 (Mon, 03 Feb 2025) EndedAt: 2025-02-03 15:22:24 -0500 (Mon, 03 Feb 2025) EllapsedTime: 22.1 seconds RetCode: 0 Status: OK