Package: EGSEA Version: 1.34.0 Command: /Library/Frameworks/R.framework/Resources/bin/R CMD check --install=check:EGSEA.install-out.txt --library=/Library/Frameworks/R.framework/Resources/library --no-vignettes --timings EGSEA_1.34.0.tar.gz StartedAt: 2025-01-31 18:22:31 -0500 (Fri, 31 Jan 2025) EndedAt: 2025-01-31 18:31:52 -0500 (Fri, 31 Jan 2025) EllapsedTime: 560.4 seconds RetCode: 0 Status: OK CheckDir: EGSEA.Rcheck Warnings: 0