Package: EGSEA Version: 1.34.0 Command: /Library/Frameworks/R.framework/Resources/bin/R CMD INSTALL EGSEA StartedAt: 2025-01-30 17:48:22 -0500 (Thu, 30 Jan 2025) EndedAt: 2025-01-30 17:49:26 -0500 (Thu, 30 Jan 2025) EllapsedTime: 63.8 seconds RetCode: 0 Status: OK