Package: EGSEA Version: 1.34.0 Command: /Library/Frameworks/R.framework/Resources/bin/R CMD INSTALL EGSEA StartedAt: 2024-11-19 15:41:28 -0500 (Tue, 19 Nov 2024) EndedAt: 2024-11-19 15:42:42 -0500 (Tue, 19 Nov 2024) EllapsedTime: 74.5 seconds RetCode: 0 Status: OK