Package: EGSEA Version: 1.34.0 Command: /Library/Frameworks/R.framework/Resources/bin/R CMD INSTALL EGSEA StartedAt: 2025-02-03 16:36:05 -0500 (Mon, 03 Feb 2025) EndedAt: 2025-02-03 16:37:57 -0500 (Mon, 03 Feb 2025) EllapsedTime: 112.3 seconds RetCode: 0 Status: OK